BEGIN:VCALENDAR
VERSION:2.0
PRODID:-//The Chehalis Tribe - ECPv5.3.2.1//NONSGML v1.0//EN
CALSCALE:GREGORIAN
METHOD:PUBLISH
X-ORIGINAL-URL:https://www.chehalistribe.org
X-WR-CALDESC:Events for The Chehalis Tribe
BEGIN:VTIMEZONE
TZID:America/Los_Angeles
BEGIN:DAYLIGHT
TZOFFSETFROM:-0800
TZOFFSETTO:-0700
TZNAME:PDT
DTSTART:20250309T100000
END:DAYLIGHT
BEGIN:STANDARD
TZOFFSETFROM:-0700
TZOFFSETTO:-0800
TZNAME:PST
DTSTART:20251102T090000
END:STANDARD
END:VTIMEZONE
BEGIN:VEVENT
DTSTART;VALUE=DATE:20250823
DTEND;VALUE=DATE:20250831
DTSTAMP:20260421T014012
CREATED:20250423T222118Z
LAST-MODIFIED:20250423T222118Z
UID:20851-1755907200-1756598399@www.chehalistribe.org
SUMMARY:Alaska Cruise!
DESCRIPTION:Alaska Cruise Flyer Forms
URL:https://www.chehalistribe.org/event/alaska-cruise/
ATTACH;FMTTYPE=image/png:https://www.chehalistribe.org/wp-content/uploads/2025/04/Alaska-Cruise-Flyer-Forms.png
END:VEVENT
END:VCALENDAR