BEGIN:VCALENDAR
VERSION:2.0
PRODID:-//The Chehalis Tribe - ECPv5.3.2.1//NONSGML v1.0//EN
CALSCALE:GREGORIAN
METHOD:PUBLISH
X-ORIGINAL-URL:https://www.chehalistribe.org
X-WR-CALDESC:Events for The Chehalis Tribe
BEGIN:VTIMEZONE
TZID:America/Los_Angeles
BEGIN:DAYLIGHT
TZOFFSETFROM:-0800
TZOFFSETTO:-0700
TZNAME:PDT
DTSTART:20250309T100000
END:DAYLIGHT
BEGIN:STANDARD
TZOFFSETFROM:-0700
TZOFFSETTO:-0800
TZNAME:PST
DTSTART:20251102T090000
END:STANDARD
END:VTIMEZONE
BEGIN:VEVENT
DTSTART;VALUE=DATE:20251021
DTEND;VALUE=DATE:20251101
DTSTAMP:20260419T160928
CREATED:20251016T195558Z
LAST-MODIFIED:20251016T195619Z
UID:22838-1761004800-1761955199@www.chehalistribe.org
SUMMARY:Pharmacy Software Update!
DESCRIPTION:New Pharmacy Software Announcement
URL:https://www.chehalistribe.org/event/attn-chehalis-tribal-members-pharmacy-software-update-20251016/
ATTACH;FMTTYPE=image/png:https://www.chehalistribe.org/wp-content/uploads/2025/10/New-Pharmacy-Software-Announcement.png
END:VEVENT
END:VCALENDAR