BEGIN:VCALENDAR
VERSION:2.0
PRODID:-//The Chehalis Tribe - ECPv5.3.2.1//NONSGML v1.0//EN
CALSCALE:GREGORIAN
METHOD:PUBLISH
X-ORIGINAL-URL:https://www.chehalistribe.org
X-WR-CALDESC:Events for The Chehalis Tribe
BEGIN:VTIMEZONE
TZID:America/Los_Angeles
BEGIN:DAYLIGHT
TZOFFSETFROM:-0800
TZOFFSETTO:-0700
TZNAME:PDT
DTSTART:20250309T100000
END:DAYLIGHT
BEGIN:STANDARD
TZOFFSETFROM:-0700
TZOFFSETTO:-0800
TZNAME:PST
DTSTART:20251102T090000
END:STANDARD
END:VTIMEZONE
BEGIN:VEVENT
DTSTART;VALUE=DATE:20250829
DTEND;VALUE=DATE:20250830
DTSTAMP:20260419T063443
CREATED:20250829T195612Z
LAST-MODIFIED:20250829T195642Z
UID:22207-1756425600-1756511999@www.chehalistribe.org
SUMMARY:Closure Notice!
DESCRIPTION:8292025ClosureNotice
URL:https://www.chehalistribe.org/event/chehalis-tribe-closure-notice-20250829/
ATTACH;FMTTYPE=image/png:https://www.chehalistribe.org/wp-content/uploads/2025/08/Chehalis-Tribe-Closure-Notice.png
END:VEVENT
END:VCALENDAR