BEGIN:VCALENDAR
VERSION:2.0
PRODID:-//The Chehalis Tribe - ECPv5.3.2.1//NONSGML v1.0//EN
CALSCALE:GREGORIAN
METHOD:PUBLISH
X-ORIGINAL-URL:https://www.chehalistribe.org
X-WR-CALDESC:Events for The Chehalis Tribe
BEGIN:VTIMEZONE
TZID:America/Los_Angeles
BEGIN:DAYLIGHT
TZOFFSETFROM:-0800
TZOFFSETTO:-0700
TZNAME:PDT
DTSTART:20250309T100000
END:DAYLIGHT
BEGIN:STANDARD
TZOFFSETFROM:-0700
TZOFFSETTO:-0800
TZNAME:PST
DTSTART:20251102T090000
END:STANDARD
END:VTIMEZONE
BEGIN:VEVENT
DTSTART;VALUE=DATE:20251008
DTEND;VALUE=DATE:20251015
DTSTAMP:20260419T082921
CREATED:20251008T174429Z
LAST-MODIFIED:20251008T174447Z
UID:22658-1759881600-1760486399@www.chehalistribe.org
SUMMARY:CTLF is Growing!
DESCRIPTION:email about CTLF move
URL:https://www.chehalistribe.org/event/ctlf-is-growing-a-new-office-new-programs-and-new-possibilities/
ATTACH;FMTTYPE=image/png:https://www.chehalistribe.org/wp-content/uploads/2025/10/CTLF-is-Growing-A-New-Office-New-Programs-and-New-Possibilities.png
END:VEVENT
END:VCALENDAR