BEGIN:VCALENDAR
VERSION:2.0
PRODID:-//The Chehalis Tribe - ECPv5.3.2.1//NONSGML v1.0//EN
CALSCALE:GREGORIAN
METHOD:PUBLISH
X-ORIGINAL-URL:https://www.chehalistribe.org
X-WR-CALDESC:Events for The Chehalis Tribe
BEGIN:VTIMEZONE
TZID:America/Los_Angeles
BEGIN:DAYLIGHT
TZOFFSETFROM:-0800
TZOFFSETTO:-0700
TZNAME:PDT
DTSTART:20260308T100000
END:DAYLIGHT
BEGIN:STANDARD
TZOFFSETFROM:-0700
TZOFFSETTO:-0800
TZNAME:PST
DTSTART:20261101T090000
END:STANDARD
END:VTIMEZONE
BEGIN:VEVENT
DTSTART;VALUE=DATE:20260312
DTEND;VALUE=DATE:20260313
DTSTAMP:20260423T173016
CREATED:20260304T210326Z
LAST-MODIFIED:20260304T210326Z
UID:24274-1773273600-1773359999@www.chehalistribe.org
SUMMARY:Fire Summit!
DESCRIPTION:Poster Fire Summit 2026
URL:https://www.chehalistribe.org/event/fire-summit/
ATTACH;FMTTYPE=image/jpeg:https://www.chehalistribe.org/wp-content/uploads/2026/03/Fire-Summit-scaled.jpg
END:VEVENT
END:VCALENDAR