BEGIN:VCALENDAR
VERSION:2.0
PRODID:-//The Chehalis Tribe - ECPv5.3.2.1//NONSGML v1.0//EN
CALSCALE:GREGORIAN
METHOD:PUBLISH
X-ORIGINAL-URL:https://www.chehalistribe.org
X-WR-CALDESC:Events for The Chehalis Tribe
BEGIN:VTIMEZONE
TZID:America/Los_Angeles
BEGIN:DAYLIGHT
TZOFFSETFROM:-0800
TZOFFSETTO:-0700
TZNAME:PDT
DTSTART:20250309T100000
END:DAYLIGHT
BEGIN:STANDARD
TZOFFSETFROM:-0700
TZOFFSETTO:-0800
TZNAME:PST
DTSTART:20251102T090000
END:STANDARD
END:VTIMEZONE
BEGIN:VEVENT
DTSTART;VALUE=DATE:20251006
DTEND;VALUE=DATE:20251007
DTSTAMP:20260419T115247
CREATED:20251006T151317Z
LAST-MODIFIED:20251006T151353Z
UID:22629-1759708800-1759795199@www.chehalistribe.org
SUMMARY:Wellness Center Announcement!
DESCRIPTION:Red and White Minimalist Important Annoucement (2)
URL:https://www.chehalistribe.org/event/general-announcement-chehalis-tribal-wellness-center-important-announcement-20251006/
ATTACH;FMTTYPE=image/png:https://www.chehalistribe.org/wp-content/uploads/2025/10/Red-and-White-Minimalist-Important-Annoucement-2.png
END:VEVENT
END:VCALENDAR