BEGIN:VCALENDAR
VERSION:2.0
PRODID:-//The Chehalis Tribe - ECPv5.3.2.1//NONSGML v1.0//EN
CALSCALE:GREGORIAN
METHOD:PUBLISH
X-ORIGINAL-URL:https://www.chehalistribe.org
X-WR-CALDESC:Events for The Chehalis Tribe
BEGIN:VTIMEZONE
TZID:America/Los_Angeles
BEGIN:DAYLIGHT
TZOFFSETFROM:-0800
TZOFFSETTO:-0700
TZNAME:PDT
DTSTART:20250309T100000
END:DAYLIGHT
BEGIN:STANDARD
TZOFFSETFROM:-0700
TZOFFSETTO:-0800
TZNAME:PST
DTSTART:20251102T090000
END:STANDARD
END:VTIMEZONE
BEGIN:VEVENT
DTSTART;VALUE=DATE:20251022
DTEND;VALUE=DATE:20251023
DTSTAMP:20260419T175012
CREATED:20250919T234505Z
LAST-MODIFIED:20250919T234532Z
UID:22462-1761091200-1761177599@www.chehalistribe.org
SUMMARY:Lunch & Learn!
DESCRIPTION:SDPI-Lunch and Learn flyer Oct
URL:https://www.chehalistribe.org/event/sdpi-lunch-learn-20250919/
ATTACH;FMTTYPE=image/png:https://www.chehalistribe.org/wp-content/uploads/2025/09/SDPI-Lunch-and-Learn-flyer-Oct.png
END:VEVENT
END:VCALENDAR